BEGIN:VCALENDAR
VERSION:2.0
PRODID:-//Centre de santé - ECPv6.15.20//NONSGML v1.0//EN
CALSCALE:GREGORIAN
METHOD:PUBLISH
X-ORIGINAL-URL:https://centredesante.mb.ca/?lang=en
X-WR-CALDESC:Events for Centre de santé
REFRESH-INTERVAL;VALUE=DURATION:PT1H
X-Robots-Tag:noindex
X-PUBLISHED-TTL:PT1H
BEGIN:VTIMEZONE
TZID:America/Winnipeg
BEGIN:DAYLIGHT
TZOFFSETFROM:-0600
TZOFFSETTO:-0500
TZNAME:CDT
DTSTART:20250309T080000
END:DAYLIGHT
BEGIN:STANDARD
TZOFFSETFROM:-0500
TZOFFSETTO:-0600
TZNAME:CST
DTSTART:20251102T070000
END:STANDARD
BEGIN:DAYLIGHT
TZOFFSETFROM:-0600
TZOFFSETTO:-0500
TZNAME:CDT
DTSTART:20260308T080000
END:DAYLIGHT
BEGIN:STANDARD
TZOFFSETFROM:-0500
TZOFFSETTO:-0600
TZNAME:CST
DTSTART:20261101T070000
END:STANDARD
BEGIN:DAYLIGHT
TZOFFSETFROM:-0600
TZOFFSETTO:-0500
TZNAME:CDT
DTSTART:20270314T080000
END:DAYLIGHT
BEGIN:STANDARD
TZOFFSETFROM:-0500
TZOFFSETTO:-0600
TZNAME:CST
DTSTART:20271107T070000
END:STANDARD
END:VTIMEZONE
BEGIN:VEVENT
DTSTART;TZID=America/Winnipeg:20260506T173000
DTEND;TZID=America/Winnipeg:20260506T193000
DTSTAMP:20260424T035339
CREATED:20240913T152158Z
LAST-MODIFIED:20260218T201933Z
UID:7570-1778088600-1778095800@centredesante.mb.ca
SUMMARY:Craving Change
DESCRIPTION:Wednesdays May 6\, 13 and 20\, 2026. Online\nTired of dieting? Do you consider yourself to be an emotional eater? Do you find it hard to resist the urge to snack?\nAs part of this program\, you will: \n\nLearn what influences your food choices.\nDevelop skills and tools to help you improve your relationship with food.\n\nThere is a $10 fee for the workbook*. The workbook is compulsory for all participants. Please pick it up and bring the exact amount in cash to the reception desk on the first floor of Accès-Access Saint-Boniface\, 170 Goulet Street\, before the first session.\n(*Financial assistance is available on request). \nRegistration: please call 204-940-1155.
URL:https://centredesante.mb.ca/events/craving-change/?lang=en
LOCATION:VIRTUAL
CATEGORIES:En ligne (Online)
ATTACH;FMTTYPE=image/jpeg:https://centredesante.mb.ca/wp-content/uploads/2022/08/craving-1-1024x526-1.jpg
END:VEVENT
END:VCALENDAR