BEGIN:VCALENDAR
VERSION:2.0
PRODID:-//Centre de santé - ECPv6.15.20//NONSGML v1.0//EN
CALSCALE:GREGORIAN
METHOD:PUBLISH
X-WR-CALNAME:Centre de santé
X-ORIGINAL-URL:https://centredesante.mb.ca/?lang=en
X-WR-CALDESC:Events for Centre de santé
REFRESH-INTERVAL;VALUE=DURATION:PT1H
X-Robots-Tag:noindex
X-PUBLISHED-TTL:PT1H
BEGIN:VTIMEZONE
TZID:America/Winnipeg
BEGIN:DAYLIGHT
TZOFFSETFROM:-0600
TZOFFSETTO:-0500
TZNAME:CDT
DTSTART:20250309T080000
END:DAYLIGHT
BEGIN:STANDARD
TZOFFSETFROM:-0500
TZOFFSETTO:-0600
TZNAME:CST
DTSTART:20251102T070000
END:STANDARD
BEGIN:DAYLIGHT
TZOFFSETFROM:-0600
TZOFFSETTO:-0500
TZNAME:CDT
DTSTART:20260308T080000
END:DAYLIGHT
BEGIN:STANDARD
TZOFFSETFROM:-0500
TZOFFSETTO:-0600
TZNAME:CST
DTSTART:20261101T070000
END:STANDARD
BEGIN:DAYLIGHT
TZOFFSETFROM:-0600
TZOFFSETTO:-0500
TZNAME:CDT
DTSTART:20270314T080000
END:DAYLIGHT
BEGIN:STANDARD
TZOFFSETFROM:-0500
TZOFFSETTO:-0600
TZNAME:CST
DTSTART:20271107T070000
END:STANDARD
END:VTIMEZONE
BEGIN:VEVENT
DTSTART;TZID=America/Winnipeg:20260624T090000
DTEND;TZID=America/Winnipeg:20260624T110000
DTSTAMP:20260424T082525
CREATED:20250326T185834Z
LAST-MODIFIED:20250326T185834Z
UID:7776-1782291600-1782298800@centredesante.mb.ca
SUMMARY:Heart health (in French)
DESCRIPTION:Wednesday\, June 24\, 2026\, Accès-Access Saint-Boniface\nThis program is designed for people who want to better understand cardiovascular health risks and improve their behavior.\nThis program will help you : \n\nUnderstand heart disease and learn how to manage target levels for blood pressure and cholesterol.\nLearn measures and strategies to manage risk factors\, prevent heart problems and promote heart health.\nUnderstanding the signs of a heart attack or stroke\n\nRegistration: please call 204-940-1155
URL:https://centredesante.mb.ca/events/heart-health-in-french-2/?lang=en
LOCATION:Accès-Access Saint-Boniface\, 170 Goulet Street\, Winnipeg\, R2H0R7\, Canada
ATTACH;FMTTYPE=image/jpeg:https://centredesante.mb.ca/wp-content/uploads/2022/08/heart-health.jpg
END:VEVENT
BEGIN:VEVENT
DTSTART;TZID=America/Winnipeg:20260713T130000
DTEND;TZID=America/Winnipeg:20260713T150000
DTSTAMP:20260424T082525
CREATED:20250326T182818Z
LAST-MODIFIED:20250326T182818Z
UID:7774-1783947600-1783954800@centredesante.mb.ca
SUMMARY:Diabetes (in French)
DESCRIPTION:Monday\, July 13 and Tuesday\, July 14\, 2026\nThis series of 2 sessions will help you understand how to live with prediabetes or diabetes.\nSession 1: Diabetes in brief\, diabetes and diet\nLearn what diabetes is and how it affects the body.\nIntroduction to healthy eating\, physical activity and medication.\nDiscover tools to help you eat healthier. \nSession2: Mind and body\nLearn the benefits of physical activity and practical ways to change your lifestyle. \nRegistration: please call 204-940-1155
URL:https://centredesante.mb.ca/events/diabetes-in-french/?lang=en
LOCATION:Accès-Access Saint-Boniface\, 170 Goulet Street\, Winnipeg\, R2H0R7\, Canada
ATTACH;FMTTYPE=image/jpeg:https://centredesante.mb.ca/wp-content/uploads/2022/09/DM2.jpg
END:VEVENT
END:VCALENDAR